BEGIN:VCALENDAR
VERSION:2.0
PRODID:-//Perth Hindu Temple - ECPv5.3.2.1//NONSGML v1.0//EN
CALSCALE:GREGORIAN
METHOD:PUBLISH
X-WR-CALNAME:Perth Hindu Temple
X-ORIGINAL-URL:https://hindu.org.au
X-WR-CALDESC:Events for Perth Hindu Temple
BEGIN:VTIMEZONE
TZID:Asia/Shanghai
BEGIN:STANDARD
TZOFFSETFROM:+0800
TZOFFSETTO:+0800
TZNAME:CST
DTSTART:20200101T000000
END:STANDARD
END:VTIMEZONE
BEGIN:VEVENT
DTSTART;TZID=Asia/Shanghai:20200207T190000
DTEND;TZID=Asia/Shanghai:20200207T200000
DTSTAMP:20210226T111525
CREATED:20191229T074219Z
LAST-MODIFIED:20200131T221328Z
UID:1994-1581102000-1581105600@hindu.org.au
SUMMARY:1st Friday - Tamil Bajan & Mariamman Procession
DESCRIPTION:1st Friday – Tamil Bajan & Mariamman Procession\n7.45pm – Sri Mariamman Procession & Tamil Bajan
URL:https://hindu.org.au/event/1st-friday-tamil-bajan-sri-mariamman-procession-02/
CATEGORIES:Our Events,Upcoming Events
ATTACH;FMTTYPE=image/png:https://hindu.org.au/wp-content/uploads/2018/12/7.png
END:VEVENT
END:VCALENDAR