BEGIN:VCALENDAR
VERSION:2.0
PRODID:-//Perth Hindu Temple - ECPv5.3.2.1//NONSGML v1.0//EN
CALSCALE:GREGORIAN
METHOD:PUBLISH
X-WR-CALNAME:Perth Hindu Temple
X-ORIGINAL-URL:https://hindu.org.au
X-WR-CALDESC:Events for Perth Hindu Temple
BEGIN:VTIMEZONE
TZID:Asia/Shanghai
BEGIN:STANDARD
TZOFFSETFROM:+0800
TZOFFSETTO:+0800
TZNAME:CST
DTSTART:20190101T000000
END:STANDARD
END:VTIMEZONE
BEGIN:VEVENT
DTSTART;TZID=Asia/Shanghai:20191211T183000
DTEND;TZID=Asia/Shanghai:20191211T203000
DTSTAMP:20210226T113356
CREATED:20191026T071219Z
LAST-MODIFIED:20191026T071219Z
UID:1909-1576089000-1576096200@hindu.org.au
SUMMARY:Pournami Annabhishekam (Sugarcane Juice)
DESCRIPTION:Pournami Aannabhishekam (Sugarcane Juice)\n6.30pm – Pouranmi Abhishekam for Sivan \n7.00pm – Nithya Pooja
URL:https://hindu.org.au/event/pournami-annabhishekam-12/
CATEGORIES:Our Events,Upcoming Events
ATTACH;FMTTYPE=image/jpeg:https://hindu.org.au/wp-content/uploads/2019/06/Pradosham-scaled.jpg
END:VEVENT
END:VCALENDAR