BEGIN:VCALENDAR
VERSION:2.0
PRODID:-//Perth Hindu Temple - ECPv5.3.2.1//NONSGML v1.0//EN
CALSCALE:GREGORIAN
METHOD:PUBLISH
X-WR-CALNAME:Perth Hindu Temple
X-ORIGINAL-URL:https://hindu.org.au
X-WR-CALDESC:Events for Perth Hindu Temple
BEGIN:VTIMEZONE
TZID:Asia/Shanghai
BEGIN:STANDARD
TZOFFSETFROM:+0800
TZOFFSETTO:+0800
TZNAME:CST
DTSTART:20200101T000000
END:STANDARD
END:VTIMEZONE
BEGIN:VEVENT
DTSTART;TZID=Asia/Shanghai:20200122T173000
DTEND;TZID=Asia/Shanghai:20200122T210000
DTSTAMP:20210226T111503
CREATED:20191215T070405Z
LAST-MODIFIED:20191215T071247Z
UID:1974-1579714200-1579726800@hindu.org.au
SUMMARY:Pradhosham & Hanuman Pooja
DESCRIPTION:Pradhosham & Hanuman Pooja\n5.30pm – Special Abhishekam for Sivan & Nandhi\n6.00pm – Pradhosha Pooja\n7.00pm – Nithya Pooja\n7.45pm – Special Hanuman Pooja
URL:https://hindu.org.au/event/pradosham-01-2/
CATEGORIES:Our Events,Upcoming Events
ATTACH;FMTTYPE=image/png:https://hindu.org.au/wp-content/uploads/2018/12/2.png
END:VEVENT
END:VCALENDAR