BEGIN:VCALENDAR
VERSION:2.0
PRODID:-//Perth Hindu Temple - ECPv5.3.2.1//NONSGML v1.0//EN
CALSCALE:GREGORIAN
METHOD:PUBLISH
X-WR-CALNAME:Perth Hindu Temple
X-ORIGINAL-URL:https://hindu.org.au
X-WR-CALDESC:Events for Perth Hindu Temple
BEGIN:VTIMEZONE
TZID:Asia/Shanghai
BEGIN:STANDARD
TZOFFSETFROM:+0800
TZOFFSETTO:+0800
TZNAME:CST
DTSTART:20190101T000000
END:STANDARD
END:VTIMEZONE
BEGIN:VEVENT
DTSTART;TZID=Asia/Shanghai:20191226T183000
DTEND;TZID=Asia/Shanghai:20191226T203000
DTSTAMP:20210226T113429
CREATED:20191026T073034Z
LAST-MODIFIED:20191224T071142Z
UID:1922-1577385000-1577392200@hindu.org.au
SUMMARY:Sri Hanuman Jayanthi Pooja
DESCRIPTION:Sri Hanuman Jayanthi Pooja\nEvening\n6:30pm – Nithya Abhishekam for Sivan \n7.00pm – Nithya Pooja \n7:45pm – Hanuman Jayanthi Special Pooja
URL:https://hindu.org.au/event/sri-hanuman-jayanthi-pooja-2/
CATEGORIES:Our Events,Upcoming Events
ATTACH;FMTTYPE=image/jpeg:https://hindu.org.au/wp-content/uploads/2018/12/Sri-Hanuman-Jayanthi-2019.jpg
END:VEVENT
END:VCALENDAR