BEGIN:VCALENDAR
VERSION:2.0
PRODID:-//Perth Hindu Temple - ECPv5.3.2.1//NONSGML v1.0//EN
CALSCALE:GREGORIAN
METHOD:PUBLISH
X-WR-CALNAME:Perth Hindu Temple
X-ORIGINAL-URL:https://hindu.org.au
X-WR-CALDESC:Events for Perth Hindu Temple
BEGIN:VTIMEZONE
TZID:Asia/Shanghai
BEGIN:STANDARD
TZOFFSETFROM:+0800
TZOFFSETTO:+0800
TZNAME:CST
DTSTART:20200101T000000
END:STANDARD
END:VTIMEZONE
BEGIN:VEVENT
DTSTART;TZID=Asia/Shanghai:20200125T190000
DTEND;TZID=Asia/Shanghai:20200125T210000
DTSTAMP:20210226T111518
CREATED:20191215T071653Z
LAST-MODIFIED:20191215T071653Z
UID:1978-1579978800-1579986000@hindu.org.au
SUMMARY:Sri Mariamman Monthly Abhishekam
DESCRIPTION:Sri Mariamman Monthly Abhishekam\n7.00pm – Nithya Pooja \n7.45pm – Special Abhishekam for Sri Mariamman \n8.15pm – Lalitha Thirusathi Archana \n8.45pm – Aarathi & Distribution of Prasadhams
URL:https://hindu.org.au/event/sri-mariamman-monthly-abhishekam-01/
CATEGORIES:Our Events,Upcoming Events
ATTACH;FMTTYPE=image/png:https://hindu.org.au/wp-content/uploads/2018/12/7.png
END:VEVENT
END:VCALENDAR