BEGIN:VCALENDAR
VERSION:2.0
PRODID:-//Perth Hindu Temple - ECPv5.3.2.1//NONSGML v1.0//EN
CALSCALE:GREGORIAN
METHOD:PUBLISH
X-WR-CALNAME:Perth Hindu Temple
X-ORIGINAL-URL:https://hindu.org.au
X-WR-CALDESC:Events for Perth Hindu Temple
BEGIN:VTIMEZONE
TZID:Asia/Shanghai
BEGIN:STANDARD
TZOFFSETFROM:+0800
TZOFFSETTO:+0800
TZNAME:CST
DTSTART:20200101T000000
END:STANDARD
END:VTIMEZONE
BEGIN:VEVENT
DTSTART;TZID=Asia/Shanghai:20200124T073000
DTEND;TZID=Asia/Shanghai:20200124T114500
DTSTAMP:20210226T111511
CREATED:20191215T071522Z
LAST-MODIFIED:20191215T071525Z
UID:1351-1579851000-1579866300@hindu.org.au
SUMMARY:Thai Ammavasai - Pithru Tharpanam(Departed Souls)
DESCRIPTION:Thai Ammavasai – Pithru Tharpanam(Departed Souls)\n7.30am – 11.45am : Deevotees may do Moksha Archana\n7.30pm – 08.45pm : Deevotees may do Moksha Archana
URL:https://hindu.org.au/event/thai-ammavasai-pithru-tharpanamdeparted-souls/
CATEGORIES:Our Events,Upcoming Events
ATTACH;FMTTYPE=image/jpeg:https://hindu.org.au/wp-content/uploads/2019/01/Pithru-Tharpanam.jpg
END:VEVENT
END:VCALENDAR