BEGIN:VCALENDAR
VERSION:2.0
PRODID:-//Perth Hindu Temple - ECPv5.3.2.1//NONSGML v1.0//EN
CALSCALE:GREGORIAN
METHOD:PUBLISH
X-WR-CALNAME:Perth Hindu Temple
X-ORIGINAL-URL:https://hindu.org.au
X-WR-CALDESC:Events for Perth Hindu Temple
BEGIN:VTIMEZONE
TZID:Asia/Shanghai
BEGIN:STANDARD
TZOFFSETFROM:+0800
TZOFFSETTO:+0800
TZNAME:CST
DTSTART:20200101T000000
END:STANDARD
END:VTIMEZONE
BEGIN:VEVENT
DTSTART;TZID=Asia/Shanghai:20200115T051500
DTEND;TZID=Asia/Shanghai:20200115T080000
DTSTAMP:20210226T111449
CREATED:20191215T060050Z
LAST-MODIFIED:20191229T044751Z
UID:1289-1579065300-1579075200@hindu.org.au
SUMMARY:Thai Pongal & Makar Sankranti
DESCRIPTION:Morning \n5.15am – Temple opens\n5.30am – Pongal outside\n6.00am – Nithya Abhishekam\n7.00am – Special Nithya Pooja\n8.00am – Distribution Of Prasadham \nEvening \n6.30pm – Nithya Abhishekam\n7.00pm – Nithya Pooja\n7.45pm – Special Abhishekam for Sri Ayyappan\n8.20pm – Special Pooja / Harivarasanam\n8.30pm – Aarathi
URL:https://hindu.org.au/event/thai-pongal-makar-sankranti/
CATEGORIES:Our Events,Upcoming Events
ATTACH;FMTTYPE=image/jpeg:https://hindu.org.au/wp-content/uploads/2018/12/Pongal_Lohri_Makar-Sankranti.jpg
END:VEVENT
END:VCALENDAR