BEGIN:VCALENDAR
VERSION:2.0
PRODID:-//Perth Hindu Temple - ECPv5.3.2.1//NONSGML v1.0//EN
CALSCALE:GREGORIAN
METHOD:PUBLISH
X-WR-CALNAME:Perth Hindu Temple
X-ORIGINAL-URL:https://hindu.org.au
X-WR-CALDESC:Events for Perth Hindu Temple
BEGIN:VTIMEZONE
TZID:Asia/Shanghai
BEGIN:STANDARD
TZOFFSETFROM:+0800
TZOFFSETTO:+0800
TZNAME:CST
DTSTART:20200101T000000
END:STANDARD
END:VTIMEZONE
BEGIN:VEVENT
DTSTART;TZID=Asia/Shanghai:20200208T063000
DTEND;TZID=Asia/Shanghai:20200208T090000
DTSTAMP:20210226T111535
CREATED:20191229T075053Z
LAST-MODIFIED:20200207T220738Z
UID:1299-1581143400-1581152400@hindu.org.au
SUMMARY:Pournami (Sandalwood) & Thaipusam
DESCRIPTION:Pournami (Sandalwood) & Thaipusam\nMorning \n6:30am – Nithya Abhishekam for Sivan\n7.00am – Nithya Pooja\n8.00am – Special Abhishekam for Sri Subramaniar / Paal Kudam (milk kalasha) Abhishekam.\n8.45am – Aarathi & Prasadham \nEvening \n6.30pm – Pournami Abhishekam\n7.00am – Nithya Pooja
URL:https://hindu.org.au/event/thai-poosam/
CATEGORIES:Our Events,Upcoming Events
ATTACH;FMTTYPE=image/png:https://hindu.org.au/wp-content/uploads/2019/12/Thaipusam.png
END:VEVENT
END:VCALENDAR