BEGIN:VCALENDAR
VERSION:2.0
PRODID:-//Perth Hindu Temple - ECPv5.3.2.1//NONSGML v1.0//EN
CALSCALE:GREGORIAN
METHOD:PUBLISH
X-WR-CALNAME:Perth Hindu Temple
X-ORIGINAL-URL:https://hindu.org.au
X-WR-CALDESC:Events for Perth Hindu Temple
BEGIN:VTIMEZONE
TZID:Asia/Shanghai
BEGIN:STANDARD
TZOFFSETFROM:+0800
TZOFFSETTO:+0800
TZNAME:CST
DTSTART:20200101T000000
END:STANDARD
END:VTIMEZONE
BEGIN:VEVENT
DTSTART;TZID=Asia/Shanghai:20200919T063000
DTEND;TZID=Asia/Shanghai:20200919T210000
DTSTAMP:20210226T112424
CREATED:20200911T225446Z
LAST-MODIFIED:20200911T225446Z
UID:2189-1600497000-1600549200@hindu.org.au
SUMMARY:1st Purattasi Saturday&Lakshmi Narayanar Thirukalyanam
DESCRIPTION:1st Purattasi Sani Abhishekam/Pooja and Lakshmi Narayanar Thirukalyanam\nMorning\n06.30am – Nithya Abhishekam\n07.00am – Nithya Pooja\n10.00am – Special Abhishekam for Vishnu\n11.00am – Special Pooja for Lakshmi Narayanan\n11.30am – Aarathi & Distribution of Prasadham \nEvening\n6.00pm – Nithyal Abhishekam for Sivan\n6.15pm – Nithya Pooja\n7.00pm – Lakshmi Narayanar Celestial Wedding
URL:https://hindu.org.au/event/1st-purattasi-saturdaylakshmi-narayanar-thirukalyanam-9-2/
CATEGORIES:Our Events,Upcoming Events
ATTACH;FMTTYPE=image/jpeg:https://hindu.org.au/wp-content/uploads/2019/08/Lakshmi-Narayana.jpg
END:VEVENT
END:VCALENDAR