BEGIN:VCALENDAR
VERSION:2.0
PRODID:-//Perth Hindu Temple - ECPv5.3.2.1//NONSGML v1.0//EN
CALSCALE:GREGORIAN
METHOD:PUBLISH
X-WR-CALNAME:Perth Hindu Temple
X-ORIGINAL-URL:https://hindu.org.au
X-WR-CALDESC:Events for Perth Hindu Temple
BEGIN:VTIMEZONE
TZID:Asia/Shanghai
BEGIN:STANDARD
TZOFFSETFROM:+0800
TZOFFSETTO:+0800
TZNAME:CST
DTSTART:20200101T000000
END:STANDARD
END:VTIMEZONE
BEGIN:VEVENT
DTSTART;TZID=Asia/Shanghai:20200926T063000
DTEND;TZID=Asia/Shanghai:20200926T210000
DTSTAMP:20210226T112449
CREATED:20200911T231447Z
LAST-MODIFIED:20200911T231447Z
UID:2190-1601101800-1601154000@hindu.org.au
SUMMARY:2nd Purattasi Sani Abhishekam/Pooja\, Mariamman Monthly Abhishekam and Lalitha Thirusathi Archana
DESCRIPTION:Morning\n06.30 am – Nithya Abhishekam\n07.00 am – Nithya Pooja\n10.00 am – Special Abhishekam for Vishnu\n11.00 am – Special Pooja for Lakshmi Narayanar\n11.45 am – Aarathi & Distribution of Prasadham \nEvening\n6.30 pm – Nithya Abhishekam for Sivan\n7.00 pm – Nithya Pooja\n7.45 pm – Sri Mariamman Monthly Abhishekam\n8.15 pm – Lalitha Thirusathi Archana\n8.45 pm – Aarathi & Distribution of Prasadham
URL:https://hindu.org.au/event/2nd-purattasi-saturday-sri-mariamman-monthly-abhishekam-2/
CATEGORIES:Our Events,Upcoming Events
ATTACH;FMTTYPE=image/png:https://hindu.org.au/wp-content/uploads/2018/12/7.png
END:VEVENT
END:VCALENDAR