BEGIN:VCALENDAR
VERSION:2.0
PRODID:-//Perth Hindu Temple - ECPv5.3.2.1//NONSGML v1.0//EN
CALSCALE:GREGORIAN
METHOD:PUBLISH
X-WR-CALNAME:Perth Hindu Temple
X-ORIGINAL-URL:https://hindu.org.au
X-WR-CALDESC:Events for Perth Hindu Temple
BEGIN:VTIMEZONE
TZID:Asia/Shanghai
BEGIN:STANDARD
TZOFFSETFROM:+0800
TZOFFSETTO:+0800
TZNAME:CST
DTSTART:20200101T000000
END:STANDARD
END:VTIMEZONE
BEGIN:VEVENT
DTSTART;TZID=Asia/Shanghai:20201003T063000
DTEND;TZID=Asia/Shanghai:20201003T120000
DTSTAMP:20210224T011302
CREATED:20200911T232040Z
LAST-MODIFIED:20200911T232040Z
UID:2191-1601706600-1601726400@hindu.org.au
SUMMARY:3rd Purattasi Sani Abhishekam/Pooja
DESCRIPTION:3rd Purattasi Sani Abhishekam/Pooja\n06.30am – Nithya Abhishekam\n07.00am – Nithya Pooja\n10.00am – Special Abhishekam for Vishnu\n11.00am – Special Pooja for Lakshmi Narayanar\n11.45am – Aarathi & Distribution of Prasadham
URL:https://hindu.org.au/event/3rd-purattasi-saturday-sani-pradhosham-2/
CATEGORIES:Our Events,Upcoming Events
ATTACH;FMTTYPE=image/jpeg:https://hindu.org.au/wp-content/uploads/2019/08/Lakshmi-Narayana.jpg
END:VEVENT
END:VCALENDAR