BEGIN:VCALENDAR
VERSION:2.0
PRODID:-//Perth Hindu Temple - ECPv4.7.4//NONSGML v1.0//EN
CALSCALE:GREGORIAN
METHOD:PUBLISH
X-WR-CALNAME:Perth Hindu Temple
X-ORIGINAL-URL:https://hindu.org.au
X-WR-CALDESC:Events for Perth Hindu Temple
BEGIN:VEVENT
DTSTART;TZID=UTC+8:20190128T190000
DTEND;TZID=UTC+8:20190128T203000
DTSTAMP:20190226T204154
CREATED:20190128T043012Z
LAST-MODIFIED:20190128T043018Z
UID:1355-1548702000-1548707400@hindu.org.au
SUMMARY:Bhairavar Special Pooja
DESCRIPTION:7.00pm – Nithya Pooja\n7.45pm – Bhairavar Special Pooja \n
URL:https://hindu.org.au/event/bhairavar-special-pooja-2/
CATEGORIES:Upcoming Events
ATTACH;FMTTYPE=image/jpeg:https://hindu.org.au/wp-content/uploads/2019/01/Shri-Bhairavar.jpg
END:VEVENT
BEGIN:VEVENT
DTSTART;TZID=UTC+8:20190201T194500
DTEND;TZID=UTC+8:20190201T203000
DTSTAMP:20190226T204154
CREATED:20190127T101623Z
LAST-MODIFIED:20190127T101623Z
UID:1323-1549050300-1549053000@hindu.org.au
SUMMARY:Sri Hanuman Pooja
DESCRIPTION:7.00pm – Nithya Pooja\n7.45pm – Special Hanuman Pooja \n
URL:https://hindu.org.au/event/hanuman-pooja-2/
CATEGORIES:Our Events,Upcoming Events
ATTACH;FMTTYPE=image/jpeg:https://hindu.org.au/wp-content/uploads/2019/01/Shri-Hanuman.jpg
END:VEVENT
BEGIN:VEVENT
DTSTART;TZID=UTC+0:20190202T173000
DTEND;TZID=UTC+0:20190202T190000
DTSTAMP:20190226T204154
CREATED:20190128T035626Z
LAST-MODIFIED:20190202T002645Z
UID:1332-1549128600-1549134000@hindu.org.au
SUMMARY:Sani Pradhosham
DESCRIPTION:5:30pm – Special Abhishekam for Shivan & Nandhi \n6:00pm – Pradhosha Pooja \n7:00pm – Nithya Pooja \n
URL:https://hindu.org.au/event/sani-pradhosham/
CATEGORIES:Our Events,Upcoming Events
ATTACH;FMTTYPE=image/jpeg:https://hindu.org.au/wp-content/uploads/2019/01/Sani-Pradosham.jpg
END:VEVENT
BEGIN:VEVENT
DTSTART;TZID=UTC+8:20190204T073000
DTEND;TZID=UTC+8:20190204T114500
DTSTAMP:20190226T204154
CREATED:20190128T041822Z
LAST-MODIFIED:20190128T041822Z
UID:1351-1549265400-1549280700@hindu.org.au
SUMMARY:Thai Ammavasai - Pithru Tharpanam(Departed Souls)
DESCRIPTION:7.30am – 11.45am : Deevotees may do Moksha Archana\n7.30pm – 08.45pm : Deevotees may do Moksha Archana \n
URL:https://hindu.org.au/event/thai-ammavasai-pithru-tharpanamdeparted-souls/
CATEGORIES:Our Events,Upcoming Events
ATTACH;FMTTYPE=image/jpeg:https://hindu.org.au/wp-content/uploads/2019/01/Pithru-Tharpanam.jpg
END:VEVENT
BEGIN:VEVENT
DTSTART;TZID=UTC+8:20190213T190000
DTEND;TZID=UTC+8:20190213T210000
DTSTAMP:20190226T204154
CREATED:20190128T042407Z
LAST-MODIFIED:20190216T085726Z
UID:1334-1550084400-1550091600@hindu.org.au
SUMMARY:Rahu and Kethu Peyarchi
DESCRIPTION:6.00pm – Nithya Abhishekpm for Sivan\n6.30pm – Nithya Pooja\n7.00pm – Vigneswara Pooja/Sangalpam\n7.15pm – Kalasa Pooja and Homam\n7.45pm – Devotees Purnahuti trays/Maha Purnahuti\n8.15pm – Special Abhishekam for Rahu & Kethu\n8.45pm –Special Pooja/Aarthi and Distribution of Prasadham \n
URL:https://hindu.org.au/event/rahu-and-kethu-peyarchi/
CATEGORIES:Our Events,Upcoming Events
ATTACH;FMTTYPE=image/jpeg:https://hindu.org.au/wp-content/uploads/2019/01/Rahu-and-Kethu.jpg
END:VEVENT
BEGIN:VEVENT
DTSTART;TZID=UTC+8:20190215T183000
DTEND;TZID=UTC+8:20190215T204500
DTSTAMP:20190226T204154
CREATED:20190128T042631Z
LAST-MODIFIED:20190216T085754Z
UID:1336-1550255400-1550263500@hindu.org.au
SUMMARY:Sri Ayyappan Monthly Abhishekam
DESCRIPTION:6:30pm – Nithya Abhishekam for Sivan\n7.00pm – Nithya Pooja\n7.45pm – Special Abhishekam for Sri Ayyappan\n8.20pm – Special Pooja / Harivarasanam\n8.30pm – Aarathi \n
URL:https://hindu.org.au/event/sri-ayyappan-monthly-abhishekam-2/
CATEGORIES:Our Events,Upcoming Events
ATTACH;FMTTYPE=image/png:https://hindu.org.au/wp-content/uploads/2018/12/8.png
END:VEVENT
BEGIN:VEVENT
DTSTART;TZID=UTC+8:20190217T173000
DTEND;TZID=UTC+8:20190217T190000
DTSTAMP:20190226T204154
CREATED:20190128T043213Z
LAST-MODIFIED:20190217T005128Z
UID:1280-1550424600-1550430000@hindu.org.au
SUMMARY:Pradosham
DESCRIPTION:5.30pm – Special Abhishekam for Sivan & Nandhi\n6.30pm – Pradhosha Pooja\n7.00pm – Nithya Pooja \n
URL:https://hindu.org.au/event/pradosham-2/
CATEGORIES:Our Events,Upcoming Events
ATTACH;FMTTYPE=image/png:https://hindu.org.au/wp-content/uploads/2018/12/2.png
END:VEVENT
BEGIN:VEVENT
DTSTART;TZID=UTC+8:20190219T180000
DTEND;TZID=UTC+8:20190219T204500
DTSTAMP:20190226T204154
CREATED:20190128T043858Z
LAST-MODIFIED:20190216T085839Z
UID:1342-1550599200-1550609100@hindu.org.au
SUMMARY:Pournami Abhishekam and Masi Maham Special Abhishekam
DESCRIPTION:6.00pm – Pournami Abhishekam for Sivan\n6.30pm – Sri Meenakshi Special Abhishekam\n7.00pm – Nithya Pooja\n7.30pm – Deeparadhana for Sri Meenaskshi\n8.00pm – Lalitha Thirusathi Archana\n8.30pm – Aarathi & Distribution Of Prasatham \n
URL:https://hindu.org.au/event/pournami-abhishekam-and-masi-maham-special-abhishekam/
CATEGORIES:Our Events,Upcoming Events
ATTACH;FMTTYPE=image/jpeg:https://hindu.org.au/wp-content/uploads/2018/12/ca50be98995740078b0f926ebeeb963a.jpg
END:VEVENT
BEGIN:VEVENT
DTSTART;TZID=UTC+8:20190222T180000
DTEND;TZID=UTC+8:20190222T190000
DTSTAMP:20190226T204154
CREATED:20190128T044139Z
LAST-MODIFIED:20190216T090005Z
UID:1344-1550858400-1550862000@hindu.org.au
SUMMARY:Sankatahara Chathurthi
DESCRIPTION:6.00pm – Kalasa Pooja/ Nithya Abhishekam for Sivan\n6.30pm – Special Abhishekam for Ganapathy\n7.00pm – Nithya Pooja \n
URL:https://hindu.org.au/event/sankatahara-chathurthi-2/
CATEGORIES:Our Events,Upcoming Events
ATTACH;FMTTYPE=image/png:https://hindu.org.au/wp-content/uploads/2018/12/31cfa5c70220889ee6340042a4b1469f.png
END:VEVENT
BEGIN:VEVENT
DTSTART;TZID=UTC+8:20190223T193000
DTEND;TZID=UTC+8:20190223T210000
DTSTAMP:20190226T204154
CREATED:20190128T044236Z
LAST-MODIFIED:20190216T090035Z
UID:1346-1550950200-1550955600@hindu.org.au
SUMMARY:Sri Mariamman Monthly Abhishekam
DESCRIPTION:7.00pm – Nithya Pooja\n7.45pm – Special Abhishekam for Sri Mariamman\n8.15pm – Lalitha Thirusathi Archana\n8.45pm – Aarathi \n
URL:https://hindu.org.au/event/sri-mariamman-monthly-abhishekam-2/
CATEGORIES:Our Events,Upcoming Events
ATTACH;FMTTYPE=image/png:https://hindu.org.au/wp-content/uploads/2018/12/7.png
END:VEVENT
BEGIN:VEVENT
DTSTART;TZID=UTC+8:20190226T190000
DTEND;TZID=UTC+8:20190226T200000
DTSTAMP:20190226T204154
CREATED:20190128T044325Z
LAST-MODIFIED:20190216T090143Z
UID:1348-1551207600-1551211200@hindu.org.au
SUMMARY:Bhairavar Special Pooja
DESCRIPTION:7.00pm – Nithya Pooja\n7.45pm – Bhairavar Special Pooja \n
URL:https://hindu.org.au/event/bhairavar-special-pooja/
CATEGORIES:Our Events,Upcoming Events
ATTACH;FMTTYPE=image/jpeg:https://hindu.org.au/wp-content/uploads/2019/01/Shri-Bhairavar.jpg
END:VEVENT
BEGIN:VEVENT
DTSTART;TZID=UTC+8:20190228T194500
DTEND;TZID=UTC+8:20190228T203000
DTSTAMP:20190226T204154
CREATED:20190128T044414Z
LAST-MODIFIED:20190216T090210Z
UID:1326-1551383100-1551385800@hindu.org.au
SUMMARY:Sri Hanuman Pooja
DESCRIPTION:7.00pm – Nithya Pooja\n7.45pm – Special Hanuman Pooja \n
URL:https://hindu.org.au/event/hanuman-pooja-3/
CATEGORIES:Our Events,Upcoming Events
ATTACH;FMTTYPE=image/jpeg:https://hindu.org.au/wp-content/uploads/2019/01/Shri-Hanuman.jpg
END:VEVENT
BEGIN:VEVENT
DTSTART;TZID=UTC+0:20190302T010000
DTEND;TZID=UTC+0:20190302T150000
DTSTAMP:20190226T204154
CREATED:20170126T154759Z
LAST-MODIFIED:20181231T174746Z
UID:298-1551488400-1551538800@hindu.org.au
SUMMARY:EXPRESSIONS OF INTERESTS-RESIDENT PRIESTS
DESCRIPTION:Hindu association Of WA calling EXPRESSIONS OF INTERESTS-RESIDENT PRIESTS\ \nFormal Vedic and Agamic qualification\, preferably from an established Priests’ Training Institution (Veda Padasalai). \nGood understanding of Hindu principles\, practices and philosophies. \nHands-on training in conducting Temple poojas. \nExperience: (3 years + Preferred) \nConduct of daily and special abishekams and poojas in a Temple. \nConduct of havans for the various Deities. \nConduct of poojas and havans in devotees’ homes \nParticipation in consecration ceremonies \nAlangaram of Deities.(Alankara Shiromani  preferred) \nPreparation of Neivethium (food offerings) for Deities \nLanguage skills: \nDemonstrated ability to read and speak English. \nDemonstrated ability to read and chant Sanskrit. \nDemonstrated ability to converse in at least one other Indian language (Tamil\, Hindi\, etc.) \nPersonal Characteristics and Inter-personal skills: \nAbility to relate to the diverse range of devotees of the Temple. \nAbility to manage and respond to requests and feedback from Management and devotees. \nAbility to carry out his duties independently and as a member of a team. \nAbility to adopt and manage Hindu religious practices in Western culture society \n Be of exemplary character befitting the position of the Priest in a Hindu Temple and should be vegetarian and abstain from alcohol\, tobacco and drugs. \nPlease send application to hawapresident@iinet.net.au \n  \n
URL:https://hindu.org.au/event/safe-harbor-christian-counseling/
LOCATION:Perth Hindu Temple\, 269 Warton Road\, Canning Vale 6155 WA\, Australia
CATEGORIES:Upcoming Events
ATTACH;FMTTYPE=image/jpeg:https://hindu.org.au/wp-content/uploads/2017/01/Hindu_Gallery_Img_09.jpg
ORGANIZER;CN="Lord%E2%80%99s%20Church":MAILTO:yoursample@mail
END:VEVENT
END:VCALENDAR