BEGIN:VCALENDAR
VERSION:2.0
PRODID:-//Perth Hindu Temple - ECPv4.7.4//NONSGML v1.0//EN
CALSCALE:GREGORIAN
METHOD:PUBLISH
X-WR-CALNAME:Perth Hindu Temple
X-ORIGINAL-URL:https://hindu.org.au
X-WR-CALDESC:Events for Perth Hindu Temple
BEGIN:VEVENT
DTSTART;TZID=UTC+8:20190201T194500
DTEND;TZID=UTC+8:20190201T203000
DTSTAMP:20190226T210041
CREATED:20190127T101623Z
LAST-MODIFIED:20190127T101623Z
UID:1323-1549050300-1549053000@hindu.org.au
SUMMARY:Sri Hanuman Pooja
DESCRIPTION:7.00pm – Nithya Pooja\n7.45pm – Special Hanuman Pooja \n
URL:https://hindu.org.au/event/hanuman-pooja-2/
CATEGORIES:Our Events,Upcoming Events
ATTACH;FMTTYPE=image/jpeg:https://hindu.org.au/wp-content/uploads/2019/01/Shri-Hanuman.jpg
END:VEVENT
END:VCALENDAR